BEGIN:VCALENDAR
VERSION:2.0
PRODID:-//Stonington Public Library - ECPv6.15.20//NONSGML v1.0//EN
CALSCALE:GREGORIAN
METHOD:PUBLISH
X-WR-CALNAME:Stonington Public Library
X-ORIGINAL-URL:http://www.stonington.lib.me.us
X-WR-CALDESC:Events for Stonington Public Library
REFRESH-INTERVAL;VALUE=DURATION:PT1H
X-Robots-Tag:noindex
X-PUBLISHED-TTL:PT1H
BEGIN:VTIMEZONE
TZID:America/New_York
BEGIN:DAYLIGHT
TZOFFSETFROM:-0500
TZOFFSETTO:-0400
TZNAME:EDT
DTSTART:20230312T070000
END:DAYLIGHT
BEGIN:STANDARD
TZOFFSETFROM:-0400
TZOFFSETTO:-0500
TZNAME:EST
DTSTART:20231105T060000
END:STANDARD
BEGIN:DAYLIGHT
TZOFFSETFROM:-0500
TZOFFSETTO:-0400
TZNAME:EDT
DTSTART:20240310T070000
END:DAYLIGHT
BEGIN:STANDARD
TZOFFSETFROM:-0400
TZOFFSETTO:-0500
TZNAME:EST
DTSTART:20241103T060000
END:STANDARD
BEGIN:DAYLIGHT
TZOFFSETFROM:-0500
TZOFFSETTO:-0400
TZNAME:EDT
DTSTART:20250309T070000
END:DAYLIGHT
BEGIN:STANDARD
TZOFFSETFROM:-0400
TZOFFSETTO:-0500
TZNAME:EST
DTSTART:20251102T060000
END:STANDARD
END:VTIMEZONE
BEGIN:VEVENT
DTSTART;TZID=America/New_York:20240802T130000
DTEND;TZID=America/New_York:20240802T140000
DTSTAMP:20260420T104447
CREATED:20240723T154835Z
LAST-MODIFIED:20240723T154835Z
UID:760-1722603600-1722607200@www.stonington.lib.me.us
SUMMARY:Faerie Queen Story Hour
DESCRIPTION:Enchanted Islands is a living art story project\, a collaboration between writer-performer Melody Bates\, costume artist Jennifer Paar\, and Deer Isle sculptor Peter Beerits. The 2024 residency will include three original versions of beloved fairy tales at Nervous Nellie’s on Deer Isle with the storyteller costumed in spectacular garments designed for each tale. \nThese stories feature magic\, disguise and self-discovery\, bravery\, and birds. They usher family audiences into 21st century tales of enchantment\, and human relationships to the natural world. \nMelody will perform one of the three tales in the children’s room at SPL on Friday\, August 2 at 1pm.
URL:http://www.stonington.lib.me.us/event/faerie-queen-story-hour/
LOCATION:Stonington Public Library\, 64 Main Street\, Stonington\, ME\, 04681
ORGANIZER;CN="Stonington Public Library":MAILTO:stonington.public.library@gmail.com
END:VEVENT
BEGIN:VEVENT
DTSTART;TZID=America/New_York:20240731T120000
DTEND;TZID=America/New_York:20240731T130000
DTSTAMP:20260420T104447
CREATED:20240604T214211Z
LAST-MODIFIED:20240604T214211Z
UID:620-1722427200-1722430800@www.stonington.lib.me.us
SUMMARY:Seaside Series: Siri Beckman
DESCRIPTION:The Art of Wood Engraving and Woodcut\n\nSiri Beckman will talk about wood engraving and woodcut with a book signing to follow. She recently published The Prints of Siri Beckman: Engraving a Sense of Place with Down East Books\, which includes an introduction by renowned New England art critic Carl Little. \nCopies of her book will be available to purchase. The rain venue is SPL\, 64 Main Street\, Stonington. \nAs a long time resident of Stonington\, many of her prints were inspired by experiences on the island throughout the years. Siri is a mid-westerner by birth\, and Maine became her adopted home in 1975. She joined other artists and craftsmen in forming a co-op gallery in Stonington in 1976. She taught classes in the adult ed program at Deer Isle-Stonington High School\, and worked at Haystack for several summers. She also served on the Memorial Ambulance Corps and the Stonington Planning Board. In 1992\, she earned an MFA in Printmaking and Book Arts at The University of the Arts in Philadelphia. For many years\, she ran a picture framing business from her home studio where she also sold her prints. Learn more about Siri on her website.
URL:http://www.stonington.lib.me.us/event/seaside-beckman/
LOCATION:Small Cove Park\, 6 Atlantic Avenue\, Stonington\, ME\, 04681
ORGANIZER;CN="Stonington Public Library":MAILTO:stonington.public.library@gmail.com
END:VEVENT
BEGIN:VEVENT
DTSTART;TZID=America/New_York:20240724T120000
DTEND;TZID=America/New_York:20240724T130000
DTSTAMP:20260420T104447
CREATED:20240723T153804Z
LAST-MODIFIED:20240723T153804Z
UID:756-1721822400-1721826000@www.stonington.lib.me.us
SUMMARY:Seaside Series: Steve Hindy
DESCRIPTION:What the War in Gaza Means to You\nSteve Hindy was a Middle East correspondent for The Associated Press based in Beirut and Cairo from 1979-1984. He now lives in Brooklin\, Maine\, and has facilitated a community discussion of the war in Brooklin. \nThe rain venue is SPL\, 64 Main Street\, Stonington.
URL:http://www.stonington.lib.me.us/event/seaside-series-steve-hindy/
LOCATION:Small Cove Park\, 6 Atlantic Avenue\, Stonington\, ME\, 04681
ORGANIZER;CN="Stonington Public Library":MAILTO:stonington.public.library@gmail.com
END:VEVENT
BEGIN:VEVENT
DTSTART;TZID=America/New_York:20240722T183000
DTEND;TZID=America/New_York:20240722T193000
DTSTAMP:20260420T104447
CREATED:20240511T190623Z
LAST-MODIFIED:20240511T191402Z
UID:505-1721673000-1721676600@www.stonington.lib.me.us
SUMMARY:Food & Fiction: The Body in the Piazza
DESCRIPTION:Our July title is The Body in the Piazza by Katherine Hall Page. The SPL book club meets the fourth Monday of every month at 6:30pm. Readers can choose to participate either in person at SPL or online via Zoom. Contact SPL at the phone or email below to RSVP and/or to join the book club email list.
URL:http://www.stonington.lib.me.us/event/body-in-the-piazza/
LOCATION:Stonington Public Library\, 64 Main Street\, Stonington\, ME\, 04681
ORGANIZER;CN="Stonington Public Library":MAILTO:stonington.public.library@gmail.com
END:VEVENT
BEGIN:VEVENT
DTSTART;TZID=America/New_York:20240717T120000
DTEND;TZID=America/New_York:20240717T130000
DTSTAMP:20260420T104447
CREATED:20240604T213946Z
LAST-MODIFIED:20240604T213946Z
UID:615-1721217600-1721221200@www.stonington.lib.me.us
SUMMARY:Seaside Series: Ben Shattuck
DESCRIPTION:The History of Sound\nBen Shattuck will read from his new short story collection\, The History of Sound\, followed by a Q&A and book signing. Written with breathtaking humanity and humor\, The History of Sound is a love letter to New England\, a radiant conversation between past and present\, and a moving meditation on the abiding search for home. In the collection’s final story\, “Origin Stories\,” the protagonist travels through Stonington and visits a woman living on Isle au Haut. \nCopies of his books will be available to purchase. The rain venue is SPL\, 64 Main Street\, Stonington. \nBen Shattuck is also the author of Six Walks: In the Footsteps of Henry David Thoreau\, which was a New Yorker Best Book of 2022 and nominated for the Massachusetts Book Award. A graduate of the Iowa Writers’ Workshop\, he lives in Massachusetts\, where he owns the oldest general store in America. Follow Ben on Instagram and read more about him on his website.
URL:http://www.stonington.lib.me.us/event/seaside-shattuck/
LOCATION:Small Cove Park\, 6 Atlantic Avenue\, Stonington\, ME\, 04681
ORGANIZER;CN="Stonington Public Library":MAILTO:stonington.public.library@gmail.com
END:VEVENT
BEGIN:VEVENT
DTSTART;TZID=America/New_York:20240713T133000
DTEND;TZID=America/New_York:20240713T153000
DTSTAMP:20260420T104447
CREATED:20240520T142558Z
LAST-MODIFIED:20240520T144357Z
UID:552-1720877400-1720884600@www.stonington.lib.me.us
SUMMARY:Downeast with SPL: Modernmaine
DESCRIPTION:Visit the studio where inspiration is transformed into contemporary artist-made lighting. Take home a Modernmaine votive holder. \nStudio visit with Modernmaine founder and designer Julie Morringello. Learn how she creates unique light fixtures for homes and businesses. Her work crosses traditional boundaries\, in that it is both functional and sculptural\, and created from a combination of digital and handmade processes. Most pieces are made from a very thin\, translucent wood veneer\, to color and pattern may be applied. Take home an original Modernmaine votive holder. \nLearn more about Modernmaine here. \nTo make reservations and for payment information\, contact SPL at the phone or email below. \nLimited to 12 people \n$75 minimum donation \nDowneast with SPL is a new fundraising series showcasing local makers\, producers\, and artists. These small\, intimate gatherings are a chance to meet the people and businesses behind the tastes and beauty and moments that we love about Downeast Maine. Our partners are generously donating their time and services and handmade goods to support Stonington Public Library’s mission.
URL:http://www.stonington.lib.me.us/event/downeast-modernmaine/
LOCATION:Modernmaine Studio\, 10 Memorial Lane\, Stonington\, ME\, 04681
ORGANIZER;CN="Stonington Public Library":MAILTO:stonington.public.library@gmail.com
END:VEVENT
BEGIN:VEVENT
DTSTART;TZID=America/New_York:20240713T100000
DTEND;TZID=America/New_York:20240713T110000
DTSTAMP:20260420T104447
CREATED:20240511T185630Z
LAST-MODIFIED:20240511T191344Z
UID:501-1720864800-1720868400@www.stonington.lib.me.us
SUMMARY:Story Garden: Tree Identification
DESCRIPTION:Tree identification story time and garden activity with SPL and led by Mary Cevasco. \nThe Story Garden Series will run on the second Saturday of every month through September\, featuring a different theme each month. Ideal for kids ages 4-10\, all ages welcome. No RSVP required.
URL:http://www.stonington.lib.me.us/event/story-garden-tree-identification/
LOCATION:Deer Isle Community Garden\, 70 Church Street\, Deer Isle\, ME\, 04627
ORGANIZER;CN="Stonington Public Library":MAILTO:stonington.public.library@gmail.com
END:VEVENT
BEGIN:VEVENT
DTSTART;TZID=America/New_York:20240710T120000
DTEND;TZID=America/New_York:20240710T130000
DTSTAMP:20260420T104447
CREATED:20240604T213903Z
LAST-MODIFIED:20240604T220730Z
UID:613-1720612800-1720616400@www.stonington.lib.me.us
SUMMARY:Seaside Series: Kathryn Lasky & Tom Ricks
DESCRIPTION: \nNew Mysteries from Bestselling Deer Isle Authors\nKathryn Lasky and Tom Ricks\, two bestselling Deer Isle authors\, have changed genres late in their writing careers. Kathryn Lasky\, beloved children’s and young adult author\, releases her second book in a new Georgia O’Keeffe mystery series for adults\, Mortal Radiance\, this summer. Tom Ricks\, renowned military historian\, switches from nonfiction to fiction with a new Maine coast thriller\, Everyone Knows But You. \nCome hear the authors read from their new novels and discuss the rewards and challenges of a late career pivot. The event will conclude with a book signing; copies of their books will be available to purchase. The rain venue is SPL\, 64 Main Street\, Stonington. \nKathryn Lasky is the author of over one hundred books for children and young adults\, including the Guardians of Ga’hoole series\, which has more than eight million copies in print\, and was turned into a major motion picture\, Legend of the Guardians. Her newest book\, Mortal Radiance\, is the second in her Georgia O’Keeffe mystery series. The first in the series\, Light on Bone\, won the 2023 Maine Literary Book Award for Crime Fiction. Follow Kathryn on Instagram or learn more about her on her website. \nThomas E. Ricks\, a former resident of Deer Isle\, is the military history columnist for the The New York Times Book Review. He is the author of nine books\, including Fiasco\, First Principles\, and\, most recently\, a thriller titled Everyone Knows But You. His latest is set on the coast of Maine and involves drugs\, sharks\, and the killing of a rogue lobsterman. Follow Tom on Twitter.
URL:http://www.stonington.lib.me.us/event/seaside-lasky-ricks/
LOCATION:Small Cove Park\, 6 Atlantic Avenue\, Stonington\, ME\, 04681
ORGANIZER;CN="Stonington Public Library":MAILTO:stonington.public.library@gmail.com
END:VEVENT
BEGIN:VEVENT
DTSTART;TZID=America/New_York:20240703T120000
DTEND;TZID=America/New_York:20240703T130000
DTSTAMP:20260420T104447
CREATED:20240604T213648Z
LAST-MODIFIED:20240604T213648Z
UID:610-1720008000-1720011600@www.stonington.lib.me.us
SUMMARY:Seaside Series: Frederica Marshall
DESCRIPTION:Sumi-e Painting Demonstration\nFrederica Marshall will present a demonstration of the ancient art of sumi-e\, Asian brush painting. This medium uses the Four Treasures: ink stick\, grinding stone\, brush\, and paper. There are 270 brushstrokes in the sumi-e artist’s tool box. The basic strokes were originally used for Chinese calligraphy then adapted for painting subjects. This simple and elegant method can be used for painting every subject.  It is practiced around the world. She loves to paint Deer Isle in sumi-e. It reminds her of her home in Japan. \nFrederica Marshall lived in Japan for 28 years and gained a deep understanding of Japanese art and culture. She teaches sumi-e\, watercolor\, Asian calligraphy\, ikebana\, and haiku\, and she is a kamishibai storyteller. She has taught more than 23\,000 students across many institutions\, including for LA Metro College and Ringling College of Art. She serves on the board of the Sumi-e Society of America and is a founding member of the Haiku Project and an active member of the Deer Isle Writers’ Group. She has won international and national awards for her sumi-e and watercolor paintings. She has a gallery and art school at 81 North Deer Isle Road\, where she finds great enrichment in developing the creativity of her students. Learn more about Frederica on her website.
URL:http://www.stonington.lib.me.us/event/seaside-marshall/
LOCATION:Small Cove Park\, 6 Atlantic Avenue\, Stonington\, ME\, 04681
ORGANIZER;CN="Stonington Public Library":MAILTO:stonington.public.library@gmail.com
END:VEVENT
BEGIN:VEVENT
DTSTART;TZID=America/New_York:20240624T183000
DTEND;TZID=America/New_York:20240624T193000
DTSTAMP:20260420T104447
CREATED:20240511T184431Z
LAST-MODIFIED:20240511T191302Z
UID:498-1719253800-1719257400@www.stonington.lib.me.us
SUMMARY:Food & Fiction: Convenience Store Woman
DESCRIPTION:Our June title is Convenience Store Woman by Sayaka Murata. The SPL book club meets the fourth Monday of every month at 6:30pm. Readers can choose to participate either in person at SPL or online via Zoom. Contact SPL at the phone or email below to RSVP and/or to join the book club email list.
URL:http://www.stonington.lib.me.us/event/convenience-store-woman/
LOCATION:Stonington Public Library\, 64 Main Street\, Stonington\, ME\, 04681
ORGANIZER;CN="Stonington Public Library":MAILTO:stonington.public.library@gmail.com
END:VEVENT
BEGIN:VEVENT
DTSTART;TZID=America/New_York:20240615T100000
DTEND;TZID=America/New_York:20240615T120000
DTSTAMP:20260420T104447
CREATED:20240520T142152Z
LAST-MODIFIED:20240520T144317Z
UID:545-1718445600-1718452800@www.stonington.lib.me.us
SUMMARY:Downeast with SPL: Northern Bay Organics
DESCRIPTION:Tour a small-scale\, no-till\, no-spray market garden—and go home with fresh veggies. \nDuring the farm tour participants will learn about our farm\, operation model and growing methods\, such as no-till agriculture\, cover cropping\, composting\, crop rotation and animal husbandry. Participants will have the opportunity to stroll through the woods on our newly established nature trail and visit our farmstand. \nEstablished in 2020\, Northern Bay Organics is a small-scale\, no-till\, no-spray market garden in Penobscot on the Blue Hill Peninsula growing mixed vegetables using regenerative / no-till farming methods. In 2024 our farm transitioned from commercial production to a fully not-for-profit operation model. \nLearn more about Northern Bay Organics here. \nTo make reservations and for payment information\, contact SPL at the phone or email below. \nLimited to 20 people \n$75 minimum donation \n\n\n\nDowneast with SPL is a new fundraising series showcasing local makers\, producers\, and artists. These small\, intimate gatherings are a chance to meet the people and businesses behind the tastes and beauty and moments that we love about Downeast Maine. Our partners are generously donating their time and services and handmade goods to support Stonington Public Library’s mission.
URL:http://www.stonington.lib.me.us/event/downeast-northern-bay-organics/
LOCATION:Northern Bay Organics\, 58 Western County Road\, Penobscot\, ME\, 04476
ORGANIZER;CN="Stonington Public Library":MAILTO:stonington.public.library@gmail.com
END:VEVENT
BEGIN:VEVENT
DTSTART;TZID=America/New_York:20240608T130000
DTEND;TZID=America/New_York:20240608T160000
DTSTAMP:20260420T104447
CREATED:20240511T183828Z
LAST-MODIFIED:20240528T160807Z
UID:493-1717851600-1717862400@www.stonington.lib.me.us
SUMMARY:Book Launch: The Friendly Maine Lobstermen
DESCRIPTION:Book launch with reception\, reading and signing! \nA Penobsoct Books original picture book\, The Friendly Maine Lobstermen: A Voyage of the Kieran Scott\, written by Melissa Jones-Bayley and illustrated by siblings Rosalie and Gavin Bayley. For children and their families\, this sweet tale is about cooperation and sharing in the lobster industry\, focusing on kindness and helpfulness. Rosalie and Gavin’s original artwork will be on display. Books will be available for purchase at $21.95.
URL:http://www.stonington.lib.me.us/event/friendly-maine-lobstermen/
LOCATION:Stonington Public Library\, 64 Main Street\, Stonington\, ME\, 04681
ORGANIZER;CN="Penobscot Books":MAILTO:books@pbp.me
END:VEVENT
BEGIN:VEVENT
DTSTART;TZID=America/New_York:20240608T100000
DTEND;TZID=America/New_York:20240608T110000
DTSTAMP:20260420T104447
CREATED:20240511T181524Z
LAST-MODIFIED:20240511T191152Z
UID:488-1717840800-1717844400@www.stonington.lib.me.us
SUMMARY:Story Garden: Edible Flowers
DESCRIPTION:Edible flowers story time and garden activity with SPL and led by Mary Cevasco. \nThe Story Garden Series will run on the second Saturday of every month through September\, featuring a different theme each month. Ideal for kids ages 4-10\, all ages welcome. No RSVP required.
URL:http://www.stonington.lib.me.us/event/story-garden-edible-flowers/
LOCATION:Deer Isle Community Garden\, 70 Church Street\, Deer Isle\, ME\, 04627
ORGANIZER;CN="Stonington Public Library":MAILTO:stonington.public.library@gmail.com
END:VEVENT
BEGIN:VEVENT
DTSTART;TZID=America/New_York:20240606T120000
DTEND;TZID=America/New_York:20240606T140000
DTSTAMP:20260420T104447
CREATED:20240520T141428Z
LAST-MODIFIED:20240520T144236Z
UID:535-1717675200-1717682400@www.stonington.lib.me.us
SUMMARY:Downeast with SPL: 44 North Coffee
DESCRIPTION:Get hands on roasting experience. Taste amazing coffee. And go home with a freshly roasted bag of coffee of your choosing. \nSee behind the scenes of 44 North Coffee. Join Alix\, Head Roaster and Production Manager\, during an active roast day. Learn about how 44 North sources coffee\, how coffee travels all the way from origin to Deer Isle\, and how coffee is transformed “from bean to cup.” See the coffee roasting process in action. Participate in a coffee cupping\, a system of evaluation via sniffing\, slurping\, swishing a sample of coffee. Learn how to apply language to your tastebuds. \n44 North Coffee was born in 2010 on a small island off the coast of Maine by Megan Dewey-Wood and Melissa Raftery. Founded on the principle that fresh and ethically sourced coffee sips best\, we custom roast organic Arabica coffee beans in Deer Isle. We honor the hard work of the farmers who grow our coffee by fairly purchasing seasonal organic beans and roasting to levels that highlight the best tasting notes in each cup. Enjoy at your own line of latitude! \nAlix has been the head roaster for 6 years and has a deep love and respect for coffee. Come feel and learn from her enthusiasm for these magical beans. \nLearn more about 44 North Coffee here. \nTo make reservations and for payment information\, contact SPL at the phone or email below. \nLimited to 10 people \n$75 minimum donation \nDowneast with SPL is a new fundraising series showcasing local makers\, producers\, and artists. These small\, intimate gatherings are a chance to meet the people and businesses behind the tastes and beauty and moments that we love about Downeast Maine. Our partners are generously donating their time and services and handmade goods to support Stonington Public Library’s mission.
URL:http://www.stonington.lib.me.us/event/downeast-44-north-coffee/
LOCATION:44 North Coffee Roastery\, 56 Church Street\, Deer Isle\, ME\, 04627
ORGANIZER;CN="Stonington Public Library":MAILTO:stonington.public.library@gmail.com
END:VEVENT
BEGIN:VEVENT
DTSTART;TZID=America/New_York:20240601T160000
DTEND;TZID=America/New_York:20240601T180000
DTSTAMP:20260420T104447
CREATED:20240511T175705Z
LAST-MODIFIED:20240511T175705Z
UID:479-1717257600-1717264800@www.stonington.lib.me.us
SUMMARY:Edible Island: Eat Like a Kennedy
DESCRIPTION:Edible Island: food • culture • community\, a Stonington Public Library and Healthy Island Project collaboration \nEat Like a Kennedy with Leslie Landrigan\, co-author with Dan Landrigan of Eat Like a President: 30 Recipes from the White House to Your House. Celebrate JFK’s birthday (May 29\, 1917) with clam chowder and biscuits. Contact SPL at email or phone below to register.
URL:http://www.stonington.lib.me.us/event/edible-island-eat-like-a-kennedy/
LOCATION:Healthy Island Project Kitchen\, 91 S Burnt Cove Rd\, Stonington\, ME
ORGANIZER;CN="Stonington Public Library":MAILTO:stonington.public.library@gmail.com
END:VEVENT
BEGIN:VEVENT
DTSTART;TZID=America/New_York:20240527T183000
DTEND;TZID=America/New_York:20240527T193000
DTSTAMP:20260420T104447
CREATED:20240511T173220Z
LAST-MODIFIED:20240511T191123Z
UID:475-1716834600-1716838200@www.stonington.lib.me.us
SUMMARY:Food & Fiction: Babette's Feast
DESCRIPTION:Our May title is Anecdotes of Destiny and Ehrengard by Isak Dinesen. The discussion will specific focus on “Babette’s Feast.” \nThe SPL book club meets the fourth Monday of every month at 6:30pm. Readers can choose to participate either in person at SPL or online via Zoom. Contact SPL at the phone or email below to RSVP and/or to join the book club email list.
URL:http://www.stonington.lib.me.us/event/babettes-feast/
LOCATION:Stonington Public Library\, 64 Main Street\, Stonington\, ME\, 04681
ORGANIZER;CN="Stonington Public Library":MAILTO:stonington.public.library@gmail.com
END:VEVENT
BEGIN:VEVENT
DTSTART;TZID=America/New_York:20240522T090000
DTEND;TZID=America/New_York:20240522T170000
DTSTAMP:20260420T104447
CREATED:20240511T195810Z
LAST-MODIFIED:20240511T170140Z
UID:432-1716368400-1716397200@www.stonington.lib.me.us
SUMMARY:Mental Health First Aid
DESCRIPTION:The University of Maine Center on Aging is offering a free Mental Health First Aid class at SPL on Wednesday\, May 22\, 9am – 5pm. The class teaches you how to identify\, understand\, and respond to signs of mental health and substance abuse challenges in adults. Registration required. Contact Laurie at phone or email listed below. \n 
URL:http://www.stonington.lib.me.us/event/mental-health-first-aid/
LOCATION:Stonington Public Library\, 64 Main Street\, Stonington\, ME\, 04681
ORGANIZER;CN="UMaine Center on Aging":MAILTO:laurie.bishop@maine.edu
END:VEVENT
BEGIN:VEVENT
DTSTART;TZID=America/New_York:20240518T110000
DTEND;TZID=America/New_York:20240518T120000
DTSTAMP:20260420T104447
CREATED:20240511T170706Z
LAST-MODIFIED:20240511T170706Z
UID:464-1716030000-1716033600@www.stonington.lib.me.us
SUMMARY:Story Time Aboard the Otter
DESCRIPTION:Captain Garret Aldrich reads the new Maine classic\, Big Truck\, Little Island by Chris Van Dusen\, for Wings\, Waves and Woods. Come aboard the Otter\, an Isle au Haut mailboat\, for a spin around Stonington Harbor and a read-aloud Maine picture book based on a true story. Chris Van Dusen’s story in rhyme and colorful artwork are sure to captivate any audience. It’s become an annual tradition for Captain Aldrich to lead this trip for Stonington Public Library. Contact SPL at phone or email below to register.
URL:http://www.stonington.lib.me.us/event/story-time-aboard-the-otter/
LOCATION:Isle au Haut Boat Company\, 37 Seabreeze Avenue\, Stonington\, Maine\, 04681
ORGANIZER;CN="Stonington Public Library":MAILTO:stonington.public.library@gmail.com
END:VEVENT
END:VCALENDAR